BEGIN:VCALENDAR
VERSION:2.0
PRODID:-//Funerária Alves - ECPv6.15.20//NONSGML v1.0//EN
CALSCALE:GREGORIAN
METHOD:PUBLISH
X-WR-CALNAME:Funerária Alves
X-ORIGINAL-URL:https://agencia-funeraria-alves.pt
X-WR-CALDESC:Eventos para Funerária Alves
REFRESH-INTERVAL;VALUE=DURATION:PT1H
X-Robots-Tag:noindex
X-PUBLISHED-TTL:PT1H
BEGIN:VTIMEZONE
TZID:Europe/Lisbon
BEGIN:DAYLIGHT
TZOFFSETFROM:+0000
TZOFFSETTO:+0100
TZNAME:WEST
DTSTART:20250330T010000
END:DAYLIGHT
BEGIN:STANDARD
TZOFFSETFROM:+0100
TZOFFSETTO:+0000
TZNAME:WET
DTSTART:20251026T010000
END:STANDARD
BEGIN:DAYLIGHT
TZOFFSETFROM:+0000
TZOFFSETTO:+0100
TZNAME:WEST
DTSTART:20260329T010000
END:DAYLIGHT
BEGIN:STANDARD
TZOFFSETFROM:+0100
TZOFFSETTO:+0000
TZNAME:WET
DTSTART:20261025T010000
END:STANDARD
BEGIN:DAYLIGHT
TZOFFSETFROM:+0000
TZOFFSETTO:+0100
TZNAME:WEST
DTSTART:20270328T010000
END:DAYLIGHT
BEGIN:STANDARD
TZOFFSETFROM:+0100
TZOFFSETTO:+0000
TZNAME:WET
DTSTART:20271031T010000
END:STANDARD
END:VTIMEZONE
BEGIN:VEVENT
DTSTART;TZID=Europe/Lisbon:20260104T120000
DTEND;TZID=Europe/Lisbon:20260104T120000
DTSTAMP:20260423T113816
CREATED:20260103T175522Z
LAST-MODIFIED:20260103T175740Z
UID:44426-1767528000-1767528000@agencia-funeraria-alves.pt
SUMMARY:Missa de 7º Dia de D. Maria Emília Robalo Rodrigues
DESCRIPTION:A família agradece a todas as pessoas que a honraram com a sua presença no funeral\, bem como a quem\, de qualquer forma\, manifestou apoio e carinho neste período de luto.\nA todos\, os mais sinceros agradecimentos.
URL:https://agencia-funeraria-alves.pt/missas/missa-de-7o-dia-de-d-maria-emilia-robalo-rodrigues
CATEGORIES:Missa 7º dia
ATTACH;FMTTYPE=image/png:https://agencia-funeraria-alves.pt/wp-content/uploads/2026/01/04d8e153afe3fced380f5358dc41fa36.png
END:VEVENT
END:VCALENDAR